BEGIN:VCALENDAR
VERSION:2.0
PRODID:-//carboniaturismo - ECPv6.15.20//NONSGML v1.0//EN
CALSCALE:GREGORIAN
METHOD:PUBLISH
X-ORIGINAL-URL:https://carboniaturismo.it/it/
X-WR-CALDESC:Eventi per carboniaturismo
REFRESH-INTERVAL;VALUE=DURATION:PT1H
X-Robots-Tag:noindex
X-PUBLISHED-TTL:PT1H
BEGIN:VTIMEZONE
TZID:UTC
BEGIN:STANDARD
TZOFFSETFROM:+0000
TZOFFSETTO:+0000
TZNAME:UTC
DTSTART:20250101T000000
END:STANDARD
END:VTIMEZONE
BEGIN:VEVENT
DTSTART;TZID=UTC:20260310T180000
DTEND;TZID=UTC:20260310T200000
DTSTAMP:20260421T123406
CREATED:20260221T144256Z
LAST-MODIFIED:20260310T112355Z
UID:15550-1773165600-1773172800@carboniaturismo.it
SUMMARY:Cinema a Carbonia: VIDEOCLIP ITALIA TALK\, il video musicale secondo Giorgio Testi
DESCRIPTION:VIDEOCLIP ITALIA TALK: il video musicale secondo Giorgio Testi. \nUn incontro dedicato al linguaggio del videoclip: come si costruisce una visione registica\, quali scelte tecniche contano davvero e come cambia oggi il racconto musicale in immagini. \nIn collaborazione con Videoclip Italia\, intervengono: \n\nGiorgio Testi (regista)\,\nNicola Marceddu (co-fondatore Videoclip Italia Awards)\nAlessio Rosa (co-fondatore Videoclip Italia Awards).\n\n \nMartedì 10 marzo\, ore 18:00 – Sala Fabio Masala\, Fabbrica del Cinema (Piazza Sergio Usai).
URL:https://carboniaturismo.it/it/event/cinema-a-carbonia-videoclip-italia-talk-il-video-musicale-secondo-giorgio-testi/
LOCATION:Carbonia (Grande Miniera di Serbariu)\, Piazza Sergio Usai\, Piazza Sergio Usai\, Carbonia\, 09013\, Italy
CATEGORIES:Che cosa fare oggi a Carbonia,Cinema,Spettacoli
ATTACH;FMTTYPE=image/jpeg:https://carboniaturismo.it/wp-content/uploads/2026/02/videoclip_italia_talk-lr-600.jpg
END:VEVENT
END:VCALENDAR